BEGIN:VCALENDAR
VERSION:2.0
PRODID:-//hacksw/handcal//NONSGML v1.0//EN
CALSCALE:GREGORIAN
BEGIN:VEVENT
DTEND:20260425T020000Z
UID:69e8f1da55aab
DTSTAMP:20260422T160546Z
SUMMARY:Great Artist - Renée Fleming
DESCRIPTION:https://newalbanysymphony.com/event/great-artist-renee-fleming/
LOCATION:McCoy Center for the Arts, 100 E Dublin Granville Rd, New Albany, OH 43054
URL;VALUE=URI:https://newalbanysymphony.com/event/great-artist-renee-fleming/
DTSTART:20260424T233000Z
END:VEVENT
END:VCALENDAR
